BEGIN:VCALENDAR
VERSION:2.0
PRODID:-//Plymouth Magazine - ECPv6.15.20//NONSGML v1.0//EN
CALSCALE:GREGORIAN
METHOD:PUBLISH
X-ORIGINAL-URL:https://plymouthmag.com
X-WR-CALDESC:Events for Plymouth Magazine
REFRESH-INTERVAL;VALUE=DURATION:PT1H
X-Robots-Tag:noindex
X-PUBLISHED-TTL:PT1H
BEGIN:VTIMEZONE
TZID:America/Chicago
BEGIN:DAYLIGHT
TZOFFSETFROM:-0600
TZOFFSETTO:-0500
TZNAME:CDT
DTSTART:20220313T080000
END:DAYLIGHT
BEGIN:STANDARD
TZOFFSETFROM:-0500
TZOFFSETTO:-0600
TZNAME:CST
DTSTART:20221106T070000
END:STANDARD
BEGIN:DAYLIGHT
TZOFFSETFROM:-0600
TZOFFSETTO:-0500
TZNAME:CDT
DTSTART:20230312T080000
END:DAYLIGHT
BEGIN:STANDARD
TZOFFSETFROM:-0500
TZOFFSETTO:-0600
TZNAME:CST
DTSTART:20231105T070000
END:STANDARD
BEGIN:DAYLIGHT
TZOFFSETFROM:-0600
TZOFFSETTO:-0500
TZNAME:CDT
DTSTART:20240310T080000
END:DAYLIGHT
BEGIN:STANDARD
TZOFFSETFROM:-0500
TZOFFSETTO:-0600
TZNAME:CST
DTSTART:20241103T070000
END:STANDARD
BEGIN:DAYLIGHT
TZOFFSETFROM:-0600
TZOFFSETTO:-0500
TZNAME:CDT
DTSTART:20250309T080000
END:DAYLIGHT
BEGIN:STANDARD
TZOFFSETFROM:-0500
TZOFFSETTO:-0600
TZNAME:CST
DTSTART:20251102T070000
END:STANDARD
BEGIN:DAYLIGHT
TZOFFSETFROM:-0600
TZOFFSETTO:-0500
TZNAME:CDT
DTSTART:20260308T080000
END:DAYLIGHT
BEGIN:STANDARD
TZOFFSETFROM:-0500
TZOFFSETTO:-0600
TZNAME:CST
DTSTART:20261101T070000
END:STANDARD
END:VTIMEZONE
BEGIN:VEVENT
DTSTART;TZID=America/Chicago:20250628T170000
DTEND;TZID=America/Chicago:20250628T190000
DTSTAMP:20260423T081227
CREATED:20250519T220114Z
LAST-MODIFIED:20250519T220114Z
UID:8979-1751130000-1751137200@plymouthmag.com
SUMMARY:Climb with Cops
DESCRIPTION:Join the Plymouth Police Department for Climb with Cops 5–7 p.m. on June 28 at Big Island Bouldering. Open to ages 10-16. \nParticipants may learn\, climb and visit with members of the Plymouth Police Department and enjoy a tailgate pizza party. No climbing experience needed. Space is limited to 30 participants.
URL:https://plymouthmag.com/event/climb-with-cops/
LOCATION:Big Island Bouldering\, 161 Cheshire Lane # 500\, Plymouth\, MN\, 55441
CATEGORIES:Community,Health & Wellness
ATTACH;FMTTYPE=image/png:https://plymouthmag.com/wp-content/uploads/2025/05/big-island-bouldering-logo.png
END:VEVENT
BEGIN:VEVENT
DTSTART;TZID=America/Chicago:20250628T080000
DTEND;TZID=America/Chicago:20250628T110000
DTSTAMP:20260423T081227
CREATED:20240410T175005Z
LAST-MODIFIED:20250519T222156Z
UID:5529-1751097600-1751108400@plymouthmag.com
SUMMARY:Music in Plymouth 5K
DESCRIPTION:Mark your calendar and join the 5K fun with your neighbors\, friends\, fellow runners and walkers for the 2025 Music in Plymouth 5K on June 28 at the Northwest Greenway .
URL:https://plymouthmag.com/event/music-in-plymouth-5k/
LOCATION:Northwest Greenway Pavilion\, 5250 Peony Lane N.\, Plymouth\, MN\, 55446
CATEGORIES:Benefits & Fundraisers,Community,Sports
ATTACH;FMTTYPE=image/png:https://plymouthmag.com/wp-content/uploads/2024/04/2025-5K-Small-Poster_300wX388h.png
END:VEVENT
BEGIN:VEVENT
DTSTART;TZID=America/Chicago:20250507T100000
DTEND;TZID=America/Chicago:20250507T120000
DTSTAMP:20260423T081227
CREATED:20250313T212022Z
LAST-MODIFIED:20250313T212022Z
UID:8350-1746612000-1746619200@plymouthmag.com
SUMMARY:Hands on History
DESCRIPTION:Volunteers will measure and describe what is seen in photos and enter that data into a spreadsheet. Training will be provided. Bring a laptop or iPad if you have one. This is a great way to learn about Plymouth’s rich history. To register\, contact Plymouth History Center manager Ryan Barland\, at rbarland@plymouthmn.gov
URL:https://plymouthmag.com/event/hands-on-history/
LOCATION:Plymouth Old Town Hall\, 3605 Fernbrook Lane N\, Plymouth\, MN\, 55447
CATEGORIES:Community,History
ATTACH;FMTTYPE=image/jpeg:https://plymouthmag.com/wp-content/uploads/2024/03/Plymouth_Historical_Society-2.jpg
END:VEVENT
BEGIN:VEVENT
DTSTART;TZID=America/Chicago:20250501T183000
DTEND;TZID=America/Chicago:20250501T193000
DTSTAMP:20260423T081227
CREATED:20250313T212225Z
LAST-MODIFIED:20250313T212225Z
UID:8352-1746124200-1746127800@plymouthmag.com
SUMMARY:Walk with the Mayor
DESCRIPTION:Residents are invited to join Mayor Jeff Wosje for a walk 6:30-7:30 p.m. on May 1 at the Plymouth Community Center. The free walk kicks off the annual Step to it Challenge. To participate in the challenge\, visit steptoit.org.
URL:https://plymouthmag.com/event/walk-with-the-mayor/
LOCATION:Plymouth Community Center\, 14800 34th Ave. N.\, Plymouth\, MN\, 55447
CATEGORIES:Community
ATTACH;FMTTYPE=image/jpeg:https://plymouthmag.com/wp-content/uploads/2023/12/city-of-plymouth.jpg
END:VEVENT
BEGIN:VEVENT
DTSTART;TZID=America/Chicago:20250303T163000
DTEND;TZID=America/Chicago:20250303T180000
DTSTAMP:20260423T081227
CREATED:20250210T223712Z
LAST-MODIFIED:20250210T223712Z
UID:8106-1741019400-1741024800@plymouthmag.com
SUMMARY:Plymouth Library Chess Club
DESCRIPTION:Whether you’re looking for some friendly competition or are new to the game and looking to learn more\, the Plymouth Library Chess Club is a friendly place to practice your skills. \nChildren under 8 must be accompanied by an adult.
URL:https://plymouthmag.com/event/plymouth-library-chess-club/
LOCATION:Plymouth Library\, 15700 36th Ave. N.\, Plymouth\, MN\, 55446
CATEGORIES:Community,Education,For the Kids
ATTACH;FMTTYPE=image/jpeg:https://plymouthmag.com/wp-content/uploads/2025/02/Fandoms-Games-Play_banner.jpg
END:VEVENT
BEGIN:VEVENT
DTSTART;TZID=America/Chicago:20250226T140000
DTEND;TZID=America/Chicago:20250226T153000
DTSTAMP:20260423T081227
CREATED:20241218T173154Z
LAST-MODIFIED:20241218T173154Z
UID:7450-1740578400-1740583800@plymouthmag.com
SUMMARY:Meet Your Neighbor: Basics of Islam and Muslim Lifestyle
DESCRIPTION:Learn about Muslim religion and Islamic culture at the free Meet Your Neighbor event set for 2-3:30 p.m. February 26 at the Plymouth Community Center. \nThe class is designed to be educational and allow for open dialogue and Q&A. Preregistration is required.
URL:https://plymouthmag.com/event/meet-your-neighbor-basics-of-islam-and-muslim-lifestyle/
LOCATION:Plymouth Community Center\, 14800 34th Ave. N.\, Plymouth\, MN\, 55447
CATEGORIES:Community,Education
ATTACH;FMTTYPE=image/jpeg:https://plymouthmag.com/wp-content/uploads/2023/12/city-of-plymouth.jpg
END:VEVENT
BEGIN:VEVENT
DTSTART;TZID=America/Chicago:20250222T100000
DTEND;TZID=America/Chicago:20250222T120000
DTSTAMP:20260423T081227
CREATED:20250210T223335Z
LAST-MODIFIED:20250210T223335Z
UID:8104-1740218400-1740225600@plymouthmag.com
SUMMARY:Puzzle Palooza
DESCRIPTION:Flex your puzzle-solving skills at this friendly community competition. Teams of up to four people will compete to solve a 500-piece puzzle\, with the top three teams receiving awards in recognition of their abilities. The price is $35 per team.
URL:https://plymouthmag.com/event/puzzle-palooza/
LOCATION:Plymouth Community Center\, 14800 34th Ave. N.\, Plymouth\, MN\, 55447
CATEGORIES:Community
ATTACH;FMTTYPE=image/jpeg:https://plymouthmag.com/wp-content/uploads/2025/02/pexels-magda-ehlers-pexels-1586950-scaled.jpg
END:VEVENT
BEGIN:VEVENT
DTSTART;TZID=America/Chicago:20241205T100000
DTEND;TZID=America/Chicago:20241205T120000
DTSTAMP:20260423T081227
CREATED:20241104T171711Z
LAST-MODIFIED:20241104T171711Z
UID:7006-1733392800-1733400000@plymouthmag.com
SUMMARY:Holiday Bingo 55+
DESCRIPTION:Join us for a Holiday fun bingo event! Two cards max per player\, per game. Coffee and snacks will be provided. \nWin fun prizes\, sweet treats and gift cards. \nRegistration is required by November 29.
URL:https://plymouthmag.com/event/holiday-bingo-55-2/
LOCATION:Plymouth Community Center\, 14800 34th Ave. N.\, Plymouth\, MN\, 55447
CATEGORIES:Community
ATTACH;FMTTYPE=image/jpeg:https://plymouthmag.com/wp-content/uploads/2023/11/holiday-bingo.jpg
END:VEVENT
BEGIN:VEVENT
DTSTART;TZID=America/Chicago:20241102T090000
DTEND;TZID=America/Chicago:20241102T090000
DTSTAMP:20260423T081227
CREATED:20241010T135235Z
LAST-MODIFIED:20241010T135235Z
UID:6821-1730538000-1730538000@plymouthmag.com
SUMMARY:Gamers for Good 25 Hour Charity Marathon
DESCRIPTION:We are hosting a 25 hour gaming charity marathon to help raise money for Extra Life & Gillette Children’s Miracle Network with a group of amazing gamers with Gamers for Good. They will be playing a variety of games for 25 hours and making a big impact for the awesome kids at Gillette Children’s. November 2 marks the 16th year of Extra Life\, which is a national fundraising event where gamers come together to raise money for the Children’s Miracle Network through a 24 hour gaming marathon. The Gamers for Good group is a small team of folks who have participated the last 8 years\, and their team alone has raised over $75\,000 for local Children’s Miracle Network hospitals in the Minneapolis and Des Moines areas.\n \nThe Luce Line Brewing taproom will be open extra late\, from noon to 1 a.m. We will have raffles for prizes\, games for everyone to be able to play\, late night pajama party and more. Our goal for Luce Line Brewing is to help them raise $5\,000!
URL:https://plymouthmag.com/event/gamers-for-good-25-hour-charity-marathon/
LOCATION:Luce Line Brewing Co.\, 12901 16th Ave. N\, Plymouth\, MN\, 55441
CATEGORIES:Benefits & Fundraisers,Community
ATTACH;FMTTYPE=image/png:https://plymouthmag.com/wp-content/uploads/2024/10/Extra-Life-Gaming-Fundraiser-Instagram-Post.png
ORGANIZER;CN="Luce Line Brewing Co.":MAILTO:hello@lucelinebrewing.com
END:VEVENT
BEGIN:VEVENT
DTSTART;TZID=America/Chicago:20241001T150000
DTEND;TZID=America/Chicago:20241001T180000
DTSTAMP:20260423T081227
CREATED:20240916T153010Z
LAST-MODIFIED:20240916T153010Z
UID:6547-1727794800-1727805600@plymouthmag.com
SUMMARY:Free Paper Shredding\, Bicycle Recycling
DESCRIPTION:The City of Plymouth will hold a free paper shredding event for Plymouth residents 3–6 p.m. October 1 at the Plymouth Maintenance Facility\, 14900 23rd Ave. N. \nResidents may also drop off bicycles to be recycled. \nTo access the Plymouth Maintenance Facility\, all vehicles must enter on 23rd Avenue from Fernbrook Lane only. Vehicles may access Fernbrook Lane from Highway 55. \nFor the safety of all\, residents must stay in their vehicles at all times. On-site staff will retrieve materials from each vehicle. Paper is shredded on-site at the event and is confidentially handled and recycled. \nAccepted Items: Paper and Bicycles \nOnly the following items will be accepted at the event: \n\nPaper – No three-ring binders or binder clips. Paper clips and staples attached to papers are accepted.\nBicycles and bicycle parts\n\nResidents may recycle cardboard boxes and paper bags at the event but must take any non-recyclable containers home. \nThe event is for Plymouth residents only; ID or proof of residency is required.
URL:https://plymouthmag.com/event/free-paper-shredding-bicycle-recycling/
LOCATION:Plymouth Maintenance Facility\, 14900 23rd Ave. N.\, Plymouth\, MN\, 55447
CATEGORIES:Community
ATTACH;FMTTYPE=image/jpeg:https://plymouthmag.com/wp-content/uploads/2024/09/paper-shredding.jpg
END:VEVENT
BEGIN:VEVENT
DTSTART;TZID=America/Chicago:20240727T100000
DTEND;TZID=America/Chicago:20240727T140000
DTSTAMP:20260423T081227
CREATED:20240712T203949Z
LAST-MODIFIED:20240712T203949Z
UID:6073-1722074400-1722088800@plymouthmag.com
SUMMARY:Austin's Hope: A Day of Support and Awareness
DESCRIPTION:Come one\, come all: This event will have live music by local artists Dan Israel and Steve Brantseg\, games\, food (while quantities last) provided by Jersey Mike’s and Jimmy John’s and other entertainment for the entire family. There will be a short program honoring Austin\, education around brain injury and bike and traffic safety. \nAustin’s Story: Austin Smith was involved in a hit and run while riding his bicycle at the intersection of Rockford Road and Vicksburg Lane. The crash left him blind\, non-verbal\, quadriplegic and with a severe traumatic brain injury. \nSupport the family:  A moment of distraction by another resulted in Austin requiring lifelong care. With your generous support\, this event will help raise funds to bring Austin back home to Minnesota one day so he can live with his family again as he so deserves.
URL:https://plymouthmag.com/event/austins-hope-a-day-of-support-and-awareness/
LOCATION:Parkers Lake Community Playfield\, 15500 County Road 6\, Plymouth\, MN\, 55447
CATEGORIES:Benefits & Fundraisers,Community,Education
ATTACH;FMTTYPE=image/jpeg:https://plymouthmag.com/wp-content/uploads/2024/07/438729513_10225733660473587_7273960366590659593_n.jpg
END:VEVENT
BEGIN:VEVENT
DTSTART;TZID=America/Chicago:20240524T110000
DTEND;TZID=America/Chicago:20240524T110000
DTSTAMP:20260423T081227
CREATED:20240506T163607Z
LAST-MODIFIED:20240506T163607Z
UID:5644-1716548400-1716548400@plymouthmag.com
SUMMARY:Plymouth Veterans Memorial Day Event
DESCRIPTION:The City of Plymouth is set to host a Veterans Memorial Day Event at 11 a.m. on May 24 at the Plymouth Veterans Memorial\, 3400 Plymouth Blvd. \nThe public is invited to attend the annual event\, which honors Plymouth’s veterans. Community members may participate in person at the Veterans Memorial. The event will be live streamed at CCXMedia.org. \nThe event includes a few words from the mayor\, the pledge of allegiance\, an invocation\, a musical performance and poetic reading\, words to remember the families and honor the fallen\, a benediction and a moment of silence.
URL:https://plymouthmag.com/event/plymouth-veterans-memorial-day-event/
LOCATION:Plymouth Veterans Memorial\, 3400 Plymouth Blvd.\, Plymouth\, MN\, 55447
CATEGORIES:Community
ATTACH;FMTTYPE=image/jpeg:https://plymouthmag.com/wp-content/uploads/2024/05/636078210706600000.jpg
END:VEVENT
BEGIN:VEVENT
DTSTART;TZID=America/Chicago:20240523T180000
DTEND;TZID=America/Chicago:20240523T200000
DTSTAMP:20260423T081227
CREATED:20240410T174313Z
LAST-MODIFIED:20240410T174313Z
UID:5525-1716487200-1716494400@plymouthmag.com
SUMMARY:Summer Beach Series: Beaches and Bonfires
DESCRIPTION:The Summer Beach Series\, Beaches and Bonfires will be held 6-8 p.m.\, May 23\, 2024\, at East Medicine Lake Park\, 1740 E. Medicine Lake Blvd. \nAttendees can enjoy an evening at the beach\, cozy up near bonfires and enjoy music. \nFood will be available for purchase from food trucks.
URL:https://plymouthmag.com/event/summer-beach-series-beaches-and-bonfires/
LOCATION:East Medicine Lake Park\, 1740 E Medicine Lake Blvd.\, Plymouth\, MN\, 55441
CATEGORIES:Arts & Performance,Community,Outdoors
ATTACH;FMTTYPE=image/jpeg:https://plymouthmag.com/wp-content/uploads/2024/04/pexels-wiredoptics-13608996-scaled.jpg
END:VEVENT
BEGIN:VEVENT
DTSTART;TZID=America/Chicago:20240425T190000
DTEND;TZID=America/Chicago:20240425T190000
DTSTAMP:20260423T081227
CREATED:20240307T174133Z
LAST-MODIFIED:20240307T174133Z
UID:5260-1714071600-1714071600@plymouthmag.com
SUMMARY:Plymouth READS Literary Night
DESCRIPTION:Plymouth READS has announced its 2024 book selection\, The Book Haters’ Book Club by Minnesota author Gretchen Anthony. \nAnthony is set to speak at a free event 7 p.m. April 25 at the Plymouth Community Center\, 14800 34th Ave. N. For information about upcoming Plymouth READS events\, visit plymouthreads.org. \nPlymouth READS promotes public literacy and participation through an annual book selection\, which the community is invited to read. Copies of this year’s book will be available from the Plymouth Library\, 15700 36th Ave. N.
URL:https://plymouthmag.com/event/plymouth-reads-literary-night/
LOCATION:Plymouth Community Center\, 14800 34th Ave. N.\, Plymouth\, MN\, 55447
CATEGORIES:Community
ATTACH;FMTTYPE=image/jpeg:https://plymouthmag.com/wp-content/uploads/2024/03/TheBookHatersBookClubbyGretchenAnthony.jpg
END:VEVENT
BEGIN:VEVENT
DTSTART;TZID=America/Chicago:20240203T150000
DTEND;TZID=America/Chicago:20240203T183000
DTSTAMP:20260423T081227
CREATED:20231215T195058Z
LAST-MODIFIED:20240104T220118Z
UID:4608-1706972400-1706985000@plymouthmag.com
SUMMARY:Fire & Ice Winter Festival - Canceled
DESCRIPTION:On January 4\, 2024 the City of Plymouth announced the 2024 Fire & Ice Festival has been canceled due to unsafe ice condition. As stated in the press release\, “Due to unsafe ice conditions\, the 2024 Fire & Ice Winter Festival has been canceled. Unseasonably warm winter temperatures have not allowed for the necessary ice to support the event on Parkers Lake.” \nThe Fire & Ice Medallion Hunt (set to begin January 4) and the Coloring Contest (set to begin January 8) will be held as planned. Visit plymouthmn.gov for updates.
URL:https://plymouthmag.com/event/fire-ice-winter-festival/
LOCATION:Parkers Lake Park\, 15205 County Road 6\, Plymouth\, MN\, 55447
CATEGORIES:Community,For the Kids
ATTACH;FMTTYPE=image/png:https://plymouthmag.com/wp-content/uploads/2023/12/638083527225370000.png
END:VEVENT
BEGIN:VEVENT
DTSTART;TZID=America/Chicago:20240111T100000
DTEND;TZID=America/Chicago:20240111T120000
DTSTAMP:20260423T081227
CREATED:20231215T194433Z
LAST-MODIFIED:20231215T194433Z
UID:4604-1704967200-1704974400@plymouthmag.com
SUMMARY:Archival Adventures Volunteer Open House
DESCRIPTION:Learn about volunteer opportunities to support Plymouth history while getting an exclusive peek at Old Town Hall and its collections before it opens to the public next summer. Experienced staff will provide training and guidance on how to handle historical documents\, photographs and artifacts. Volunteers will gain new skills\, share stories and make new friends. \nThe goal is to develop a team of volunteers who would meet regularly to work with historical objects so they can be made available for all. This is an excellent volunteer opportunity for those who enjoy learning about Plymouth history or who are the type of person who has a desire to touch items on display in museums. Come and explore the possibilities.
URL:https://plymouthmag.com/event/archival-adventures-volunteer-open-house/
LOCATION:Plymouth Historical Society\, 3605 Fernbrook Lane N\, Plymouth\, MN\, 55447
CATEGORIES:Community,Education
ATTACH;FMTTYPE=image/png:https://plymouthmag.com/wp-content/uploads/2023/12/Town-Hall-exterior-web-size.png
END:VEVENT
BEGIN:VEVENT
DTSTART;TZID=America/Chicago:20231208T100000
DTEND;TZID=America/Chicago:20231208T120000
DTSTAMP:20260423T081227
CREATED:20231103T145901Z
LAST-MODIFIED:20231103T145901Z
UID:4346-1702029600-1702036800@plymouthmag.com
SUMMARY:Holiday Bingo 55+
DESCRIPTION:Join the City of Plymouth from 10 a.m.-noon on December 8 for a fun holiday bingo event. Two cards max per player\, per game. Light refreshments will be provided. \nSpecial guests from the City of Plymouth Public Safety department will be calling numbers. \nThe fee is $5 for residents and $7 for non-residents.
URL:https://plymouthmag.com/event/holiday-bingo-55/
LOCATION:Plymouth Community Center\, 14800 34th Ave. N.\, Plymouth\, MN\, 55447
CATEGORIES:Community
ATTACH;FMTTYPE=image/jpeg:https://plymouthmag.com/wp-content/uploads/2023/11/holiday-bingo.jpg
END:VEVENT
BEGIN:VEVENT
DTSTART;TZID=America/Chicago:20230923T093000
DTEND;TZID=America/Chicago:20230923T123000
DTSTAMP:20260423T081227
CREATED:20230823T215232Z
LAST-MODIFIED:20230823T215232Z
UID:3704-1695461400-1695472200@plymouthmag.com
SUMMARY:Plymouth on Parade 2023
DESCRIPTION:A variety of community floats will roll through Plymouth City Center on September 23 for the 25th annual Plymouth on Parade. \nFamily Activities – 9:30 a.m. to 12:30 p.m. \nThe free event includes family activities and sponsor booths from 9:30 a.m. to 12:30 p.m. on the corner of Plymouth Boulevard and 34th Avenue N. Food trucks will offer concessions for purchase. Attendees should bring cash/credit cards for food truck purchases. \nParade – 10:30 a.m. \nThe parade begins at 10:30 a.m. and travels from City Hall\, 3400 Plymouth Blvd.\, to the Plymouth Community Center\, 14800 34th Ave. N. \nThe parade typically features a variety of community participants\, including local organizations\, city vehicles and equipment\, musical acts\, dance and gymnastics groups\, and other lively floats. \nAll activities and entertainment\, aside from food trucks\, are free and open to the public. Plymouth on Parade is co-sponsored by the City of Plymouth\, Plymouth Lions\, First Student\, New Horizon Academy\, Kyle Vitense State Farm Agency and CCX Media. \nFor more information\, including a parade route map\, visit plymouthmn.gov/plymouthonparade.
URL:https://plymouthmag.com/event/plymouth-on-parade-2023/
LOCATION:Plymouth City Hall\, 3400 Plymouth Blvd.\, Plymouth\, MN\, 55447
CATEGORIES:Community,Food & Drink,For the Kids
ATTACH;FMTTYPE=image/jpeg:https://plymouthmag.com/wp-content/uploads/2023/08/638243200932100000.jpg
END:VEVENT
BEGIN:VEVENT
DTSTART;TZID=America/Chicago:20230810T180000
DTEND;TZID=America/Chicago:20230810T210000
DTSTAMP:20260423T081227
CREATED:20230530T214840Z
LAST-MODIFIED:20230602T134533Z
UID:2856-1691690400-1691701200@plymouthmag.com
SUMMARY:Summerbration 2023
DESCRIPTION:Join Three Rivers Park District Foundation for our largest fundraising party of the year\, Summerbration! \nEnjoy food and beverages included with your ticket from preferred Three Rivers Park District caterers. Have a cold beer\, hard cider or wine from our friends at Fulton Brewing\, Minneapolis Cider Company and Lakeside Wine+Spirits. Play in the park with north woods activities like fishing casting\, frisbee golf\, bean bag toss and more. \nBid on many unique activities\, getaways and items in our silent and live auctions. Silent auction will open early online but close at 7:45 p.m. on August 10. In addition\, try your luck in our meat raffle and wine pull. \nLearn about the Foundation’s ambitious 5 year growth strategy\, and the life-changing programs we support. \nProceeds support improving equitable access in Three Rivers Park District. \nTickets are $75 or $65 for people 30 and under\, with a $20 early bird discount if you purchase your tickets before June 26. Tickets are for a great cause and include food\, beverages\, dessert\, DJ music and activities. \nSummerbration is for ages 21+
URL:https://plymouthmag.com/event/summerbration-2023/
LOCATION:Hyland Hills Ski Chalet\, 8800 Chalet Rd.\, Bloomington\, MN\, 55438
CATEGORIES:Benefits & Fundraisers,Community,Food & Drink,Outdoors
ATTACH;FMTTYPE=image/png:https://plymouthmag.com/wp-content/uploads/2023/05/Summerbration23.png
END:VEVENT
BEGIN:VEVENT
DTSTART;TZID=America/Chicago:20230525T060000
DTEND;TZID=America/Chicago:20230525T200000
DTSTAMP:20260423T081227
CREATED:20230309T200558Z
LAST-MODIFIED:20230309T200558Z
UID:1652-1684994400-1685044800@plymouthmag.com
SUMMARY:Beaches and Bonfires
DESCRIPTION:Summer Beach Series: Beaches and Bonfires is a free event that will be held 6-8 p.m. May 25 at East Medicine Lake Park\, 1740 E. Medicine Lake Blvd. \nAttendees can enjoy an evening at the beach\, cozy up near bonfires and enjoy music from Salsa del Soul\, a nine-piece orchestra performing various styles of dance music from the Spanish-speaking regions of the Caribbean. \nFood will be available for purchase from food trucks.
URL:https://plymouthmag.com/event/beaches-and-bonfires/
LOCATION:East Medicine Lake Park\, 1740 E Medicine Lake Blvd.\, Plymouth\, MN\, 55441
CATEGORIES:Community,Food & Drink,Outdoors
ATTACH;FMTTYPE=image/jpeg:https://plymouthmag.com/wp-content/uploads/2023/03/pexels-arthur-ogleznev-10066114-scaled.jpg
END:VEVENT
BEGIN:VEVENT
DTSTART;TZID=America/Chicago:20230505T180000
DTEND;TZID=America/Chicago:20230505T200000
DTSTAMP:20260423T081227
CREATED:20230425T155842Z
LAST-MODIFIED:20230425T155842Z
UID:2577-1683309600-1683316800@plymouthmag.com
SUMMARY:Superhero Spectacular
DESCRIPTION:The City of Plymouth is set to hold Superhero Spectacular – a new child-and-adult outing – 6-8 p.m. Friday\, May 5 at the Plymouth Community Center\, 14800 34th Ave. N. \nAttendees may enjoy an evening of dancing\, snacks\, costumes and other activities. Superhero Spectacular offers children ages 3-8 the opportunity for one-on-one time with their favorite adult sidekick – and all attendees are encouraged to dress as superheroes. \nChildren will have the opportunity to meet superhero Flexi Girl\, take photos inside a photo booth\, enjoy treat bags\, make a superhero picture frame and dance along with DJ Aaron\, a local DJ and emcee. \nPurchase Tickets in Advance \nAttendees must purchase tickets in advance of the event. To purchase tickets\, visit plymouthmn.gov/recreation. \n\nResident rate: $45 per pair (one child plus an adult)\nNonresident rate: $54 per pair (one child plus an adult)\n$15 per additional child\n\nFor more information\, call the Plymouth Parks and Recreation Department at 763-509-5200 or email recreation@plymouthmn.gov.
URL:https://plymouthmag.com/event/superhero-spectacular/
LOCATION:Plymouth Community Center\, 14800 34th Ave. N.\, Plymouth\, MN\, 55447
CATEGORIES:Community,For the Kids
ATTACH;FMTTYPE=image/jpeg:https://plymouthmag.com/wp-content/uploads/2023/04/638176744008130000.jpg
END:VEVENT
BEGIN:VEVENT
DTSTART;TZID=America/Chicago:20230415T140000
DTEND;TZID=America/Chicago:20230415T200000
DTSTAMP:20260423T081227
CREATED:20230227T182627Z
LAST-MODIFIED:20230227T182627Z
UID:1570-1681567200-1681588800@plymouthmag.com
SUMMARY:Plymouth READS 2023 Community Events
DESCRIPTION:Read the 2023 Plymouth READS book selection\, Carolina Moonset by Matt Goldman\, then meet the author for the grand finale of this year’s events. There will be time for questions at the author event. In its 13th year\, Plymouth READS seeks to spark conversation\, build community and foster learning and discovery in Plymouth by rallying readers around a single book. \nPlymouth READS: Moderated Discussion of Carolina Moonset\nSaturday\, April 15\, 2023\, from 2–3 PM at the Plymouth Library\nJoin us for a book-club-style moderated discussion of Carolina Moonset. \nPlymouth READS: Introduction to Pickleball\nSaturday\, April 15\, 2023\, from 3:30–5 PM at the Plymouth Community Center (PCC) Gym\nJoin us at the beautiful new Plymouth Community Center (PCC) to learn about the fast-growing sport of Pickleball-history\, rules and learn why it’s so popular! (Pickleball is featured in Carolina Moonset.) And\, try the game yourself.\nHosted by Plymouth Parks & Recreation \nPlymouth READS: Meet Matt Goldman\nThursday\, April 20\, 2023\, at 7 PM at the Plymouth Community Center (PCC) Black Box Theater\nJoin us for the Main Event: Meet author Matt Goldman at the Plymouth Community Center. Goldman will speak and there will be time for Q&A and book signing. Goldman’s books will also be available for purchase. No registration required.
URL:https://plymouthmag.com/event/plymouth-reads-2023-community-events/
LOCATION:Plymouth Library\, 15700 36th Ave. N.\, Plymouth\, MN\, 55446
CATEGORIES:Community,Education
ATTACH;FMTTYPE=image/jpeg:https://plymouthmag.com/wp-content/uploads/2023/02/CarolinaMoonsetMattGoldmanPlymouthReads2023Web.jpg
END:VEVENT
END:VCALENDAR